BEGIN:VCALENDAR
VERSION:2.0
PRODID:-//Price Cream Co. - ECPv6.15.20//NONSGML v1.0//EN
CALSCALE:GREGORIAN
METHOD:PUBLISH
X-WR-CALNAME:Price Cream Co.
X-ORIGINAL-URL:https://www.pricecream.co
X-WR-CALDESC:Events for Price Cream Co.
REFRESH-INTERVAL;VALUE=DURATION:PT1H
X-Robots-Tag:noindex
X-PUBLISHED-TTL:PT1H
BEGIN:VTIMEZONE
TZID:America/Denver
BEGIN:DAYLIGHT
TZOFFSETFROM:-0700
TZOFFSETTO:-0600
TZNAME:MDT
DTSTART:20230312T090000
END:DAYLIGHT
BEGIN:STANDARD
TZOFFSETFROM:-0600
TZOFFSETTO:-0700
TZNAME:MST
DTSTART:20231105T080000
END:STANDARD
BEGIN:DAYLIGHT
TZOFFSETFROM:-0700
TZOFFSETTO:-0600
TZNAME:MDT
DTSTART:20240310T090000
END:DAYLIGHT
BEGIN:STANDARD
TZOFFSETFROM:-0600
TZOFFSETTO:-0700
TZNAME:MST
DTSTART:20241103T080000
END:STANDARD
BEGIN:DAYLIGHT
TZOFFSETFROM:-0700
TZOFFSETTO:-0600
TZNAME:MDT
DTSTART:20250309T090000
END:DAYLIGHT
BEGIN:STANDARD
TZOFFSETFROM:-0600
TZOFFSETTO:-0700
TZNAME:MST
DTSTART:20251102T080000
END:STANDARD
END:VTIMEZONE
BEGIN:VTIMEZONE
TZID:UTC
BEGIN:STANDARD
TZOFFSETFROM:+0000
TZOFFSETTO:+0000
TZNAME:UTC
DTSTART:20230101T000000
END:STANDARD
END:VTIMEZONE
BEGIN:VEVENT
DTSTART;TZID=America/Denver:20240809T180000
DTEND;TZID=America/Denver:20240809T210000
DTSTAMP:20260423T174412
CREATED:20240713T142432Z
LAST-MODIFIED:20240713T142834Z
UID:2333-1723226400-1723237200@www.pricecream.co
SUMMARY:Scoops @ The Shoppe
DESCRIPTION:It’s Friday\, so that means SCOOPS and fresh waffle cones\, plus pints and quarts to take home! The Shoppe will be open from 6-9 PM. 🙂
URL:https://www.pricecream.co/event/scoops-the-shoppe-4/
LOCATION:Price Cream Shoppe\, 1200 Jackson Street\, Sidney\, NE\, 69162\, United States
ATTACH;FMTTYPE=image/png:https://www.pricecream.co/wp-content/uploads/2024/02/6.png
END:VEVENT
BEGIN:VEVENT
DTSTART;TZID=America/Denver:20240802T180000
DTEND;TZID=America/Denver:20240802T210000
DTSTAMP:20260423T174412
CREATED:20240713T142314Z
LAST-MODIFIED:20240713T142932Z
UID:2331-1722621600-1722632400@www.pricecream.co
SUMMARY:Scoops @ The Shoppe
DESCRIPTION:It’s Friday\, so that means SCOOPS and fresh waffle cones\, plus pints and quarts in select flavors to take home! The Shoppe will be open from 6-9 PM. 🙂
URL:https://www.pricecream.co/event/scoops-the-shoppe-3/
LOCATION:Price Cream Shoppe\, 1200 Jackson Street\, Sidney\, NE\, 69162\, United States
ATTACH;FMTTYPE=image/jpeg:https://www.pricecream.co/wp-content/uploads/2023/08/received_1283235222584336-e1692968302956.jpeg
END:VEVENT
BEGIN:VEVENT
DTSTART;TZID=America/Denver:20240726T180000
DTEND;TZID=America/Denver:20240726T210000
DTSTAMP:20260423T174412
CREATED:20240706T041319Z
LAST-MODIFIED:20240706T041342Z
UID:2311-1722016800-1722027600@www.pricecream.co
SUMMARY:Scoops @ The Shoppe
DESCRIPTION:It’s Friday\, so that means SCOOPS and fresh waffle cones\, plus a freezer full of pints and quarts to take home! The Shoppe will be open from 6-9 PM. 🙂
URL:https://www.pricecream.co/event/scoops-the-shoppe-2/
LOCATION:Price Cream Shoppe\, 1200 Jackson Street\, Sidney\, NE\, 69162\, United States
ATTACH;FMTTYPE=image/png:https://www.pricecream.co/wp-content/uploads/2024/02/Buckeye.png
END:VEVENT
BEGIN:VEVENT
DTSTART;TZID=UTC:20240719T170000
DTEND;TZID=UTC:20240719T210000
DTSTAMP:20260423T174412
CREATED:20240706T041228Z
LAST-MODIFIED:20240706T041447Z
UID:2309-1721408400-1721422800@www.pricecream.co
SUMMARY:Downtown Sounds
DESCRIPTION:Our second Downtown Sounds of the season…we can’t wait! See you for music and ice cream on Friday\, July 19th! We’ll be there with a variety of flavors\, ready to enjoy!
URL:https://www.pricecream.co/event/downtown-sounds-2/
LOCATION:Hickory Square\, 800 10th Ave.\, Sidney\, NE\, 69162\, United States
ATTACH;FMTTYPE=image/jpeg:https://www.pricecream.co/wp-content/uploads/2024/05/Vanilla-Cone.jpg
END:VEVENT
BEGIN:VEVENT
DTSTART;TZID=UTC:20240711T120000
DTEND;TZID=UTC:20240711T130000
DTSTAMP:20260423T174412
CREATED:20240706T040947Z
LAST-MODIFIED:20240706T041504Z
UID:2306-1720699200-1720702800@www.pricecream.co
SUMMARY:July Pint/Quart Pickup
DESCRIPTION:Our monthly pint/quart pickup is happening Thursday\, July 11th from 12-1 PM!  Ordering opens Monday\, July 8@ 7 PM. \nFlavors include:\n• Vanilla\n• Cookie Dough\n• Coffee Toffee Crunch\n• Strawberry Cheesecake\n• Strawberry Swirl\n• Snickerdoodle Cookie Dough\n• Coffee\n• Vanilla Bean\n• Cheesecake\n• Chocolate Brownie\n• Cinnamon\n• Dairy-Free Cinnamon\n• Dairy-Free Strawberry \nWe look forward to seeing you! \n  \n 
URL:https://www.pricecream.co/event/july-pint-quart-pickup/
LOCATION:Price Cream Shoppe\, 1200 Jackson Street\, Sidney\, NE\, 69162\, United States
ATTACH;FMTTYPE=image/png:https://www.pricecream.co/wp-content/uploads/2024/03/Pint-Quart-Pickup.png
END:VEVENT
BEGIN:VEVENT
DTSTART;TZID=America/Denver:20240628T180000
DTEND;TZID=America/Denver:20240628T210000
DTSTAMP:20260423T174412
CREATED:20240531T125108Z
LAST-MODIFIED:20240603T132401Z
UID:2263-1719597600-1719608400@www.pricecream.co
SUMMARY:Open Mic Night
DESCRIPTION:More music and ice cream! \nWe’ll be at Open Mic Night\, held at Pedalers Corner in June! Come see us starting at 6 PM with scoops\, ready to be enjoyed while you listen to local talent! \nOpen Mic Night is sponsored by Keep Sidney Beautiful.
URL:https://www.pricecream.co/event/open-mic-night/
LOCATION:Pedalers Corner\, 840 9th Ave.\, Sidney\, NE\, 69162\, United States
ATTACH;FMTTYPE=image/png:https://www.pricecream.co/wp-content/uploads/2024/02/3.png
END:VEVENT
BEGIN:VEVENT
DTSTART;TZID=America/Denver:20240628T180000
DTEND;TZID=America/Denver:20240628T210000
DTSTAMP:20260423T174412
CREATED:20240514T155217Z
LAST-MODIFIED:20240627T145654Z
UID:2232-1719597600-1719608400@www.pricecream.co
SUMMARY:June Pint/Quart Pickup
DESCRIPTION:Our monthly pint/quart pickup is happening during Open Mic Night @ Pedalers Corner in June 28th! Ordering opens Friday\, June 28th @ 12:00 noon. Orders can be picked up the same night between 6-9 PM at Pedalers Corner! Be sure to come for a scoop of your favorite flavor or a float while you listen to local talent! We’ll keep your pickup order in the freezer until you’re ready to go home. 🙂
URL:https://www.pricecream.co/event/june-pint-quart-pickup/
LOCATION:Pedalers Corner\, 840 9th Ave.\, Sidney\, NE\, 69162\, United States
CATEGORIES:Pint/Quart Pickup
ATTACH;FMTTYPE=image/png:https://www.pricecream.co/wp-content/uploads/2024/03/Pint-Quart-Pickup.png
END:VEVENT
BEGIN:VEVENT
DTSTART;TZID=America/Denver:20240621T170000
DTEND;TZID=America/Denver:20240621T210000
DTSTAMP:20260423T174412
CREATED:20240531T124558Z
LAST-MODIFIED:20240615T161334Z
UID:2260-1718989200-1719003600@www.pricecream.co
SUMMARY:Downtown Sounds
DESCRIPTION:Music and Ice Cream in the same night? Sounds sweet to us! \nWe’ll see you there with a variety of flavors\, ready to enjoy!
URL:https://www.pricecream.co/event/downtown-sounds/
LOCATION:Hickory Square\, 800 10th Ave.\, Sidney\, NE\, 69162\, United States
ATTACH;FMTTYPE=image/png:https://www.pricecream.co/wp-content/uploads/2024/02/4.png
END:VEVENT
BEGIN:VEVENT
DTSTART;TZID=America/Denver:20240614T180000
DTEND;TZID=America/Denver:20240614T210000
DTSTAMP:20260423T174412
CREATED:20240531T123921Z
LAST-MODIFIED:20240531T123921Z
UID:2257-1718388000-1718398800@www.pricecream.co
SUMMARY:Scoops @ the Shoppe!
DESCRIPTION:It’s Friday\, so that means SCOOPS and fresh waffle cones\, plus a freezer full of pints and quarts to take home! \nThe Shoppe will be open from 6-9 PM. 🙂
URL:https://www.pricecream.co/event/scoops-the-shoppe/
LOCATION:Price Cream Shoppe\, 1200 Jackson Street\, Sidney\, NE\, 69162\, United States
ATTACH;FMTTYPE=image/jpeg:https://www.pricecream.co/wp-content/uploads/2024/05/Vanilla-Cone.jpg
END:VEVENT
BEGIN:VEVENT
DTSTART;TZID=America/Denver:20240607T180000
DTEND;TZID=America/Denver:20240607T210000
DTSTAMP:20260423T174412
CREATED:20240514T155016Z
LAST-MODIFIED:20240603T133103Z
UID:2228-1717783200-1717794000@www.pricecream.co
SUMMARY:Scoops @ the Shoppe!
DESCRIPTION:Did you know June 7 is National Chocolate Ice Cream Day? Come see us for a scoop of our rich Chocolate Brownie ice cream or a flavor of your choice. You can also shop the freezer for pints and quarts to take home! \nWe’ll be in the Shoppe from 6-9 PM!
URL:https://www.pricecream.co/event/national-chocolate-ice-cream-day/
LOCATION:Price Cream Shoppe\, 1200 Jackson Street\, Sidney\, NE\, 69162\, United States
ATTACH;FMTTYPE=image/png:https://www.pricecream.co/wp-content/uploads/2023/07/Chocolate-Brownie.png
END:VEVENT
BEGIN:VEVENT
DTSTART;TZID=America/Denver:20240531T180000
DTEND;TZID=America/Denver:20240531T210000
DTSTAMP:20260423T174412
CREATED:20240514T145651Z
LAST-MODIFIED:20240531T123651Z
UID:2225-1717178400-1717189200@www.pricecream.co
SUMMARY:Cruisin' Night
DESCRIPTION:We’re debuting our NEW TREAT – ROOT BEER FLOATS – during Crusin’ Night! \nTry a float in regular or mini size – or grab your favorite ice cream flavor in a cup or cone! \nThe Shoppe will be open from 6-9 PM!
URL:https://www.pricecream.co/event/cruisin-night/
LOCATION:Price Cream Shoppe\, 1200 Jackson Street\, Sidney\, NE\, 69162\, United States
ATTACH;FMTTYPE=image/png:https://www.pricecream.co/wp-content/uploads/2024/05/Cruisin-Night.png
END:VEVENT
BEGIN:VEVENT
DTSTART;TZID=UTC:20240524T120000
DTEND;TZID=UTC:20240524T130000
DTSTAMP:20260423T174412
CREATED:20240513T204358Z
LAST-MODIFIED:20240523T123608Z
UID:2213-1716552000-1716555600@www.pricecream.co
SUMMARY:May Pint/Quart Pickup
DESCRIPTION:Our monthly pint/quart pickup is scheduled for May 24th! Ordering opens Monday\, May 20th @ 7 PM. Please note the location change to 1200 Jackson at BOSS CITY BREWING CO.! \nLodgepole pickup is also available. \nIf 12-1 PM does not work with your schedule\, please message us for an alternative pickup time!
URL:https://www.pricecream.co/event/may-pint-quart-pickup/
LOCATION:Price Cream Shoppe\, 1200 Jackson Street\, Sidney\, NE\, 69162\, United States
ATTACH;FMTTYPE=image/png:https://www.pricecream.co/wp-content/uploads/2024/03/Pint-Quart-Pickup.png
END:VEVENT
BEGIN:VEVENT
DTSTART;TZID=UTC:20240523T170000
DTEND;TZID=UTC:20240523T193000
DTSTAMP:20260423T174412
CREATED:20240513T205050Z
LAST-MODIFIED:20240523T123159Z
UID:2217-1716483600-1716492600@www.pricecream.co
SUMMARY:Wine Down with CASA!
DESCRIPTION:Mark your calendars and join us on May 23 at 5:00 PM for an evening of indulgence at Boss City Brewing!\nWe’ll be serving scoops in cups and homemade waffle cones! 🙂
URL:https://www.pricecream.co/event/casa/
LOCATION:Boss City Brewing Co.\, 1200 Jackson Street\, Sidney\, NE\, 69162\, United States
ATTACH;FMTTYPE=image/jpeg:https://www.pricecream.co/wp-content/uploads/2024/05/Vanilla-Cone.jpg
END:VEVENT
BEGIN:VEVENT
DTSTART;TZID=UTC:20240510T140000
DTEND;TZID=UTC:20240510T173000
DTSTAMP:20260423T174412
CREATED:20240407T163029Z
LAST-MODIFIED:20240407T163029Z
UID:2151-1715349600-1715362200@www.pricecream.co
SUMMARY:"Mommy & Me" Market
DESCRIPTION:Come see us at C. Elliott Blooms from 2:00 – 5:30 PM! We’ll have pre-packaged cups for purchase in a variety of flavors!
URL:https://www.pricecream.co/event/mommy-me-market/
LOCATION:C. Elliot Blooms\, 2678 11th Avenue\, Sidney\, NE\, 69162\, United States
CATEGORIES:Pop-up
ATTACH;FMTTYPE=image/jpeg:https://www.pricecream.co/wp-content/uploads/2024/04/C.-Elliot-Blooms-Market.jpg
END:VEVENT
BEGIN:VEVENT
DTSTART;TZID=UTC:20240504T140000
DTEND;TZID=UTC:20240504T160000
DTSTAMP:20260423T174412
CREATED:20240407T163638Z
LAST-MODIFIED:20240412T183329Z
UID:2155-1714831200-1714838400@www.pricecream.co
SUMMARY:Spring Fun Fair & Free Bicycle Clinic
DESCRIPTION:Kids\, bring your bikes and get a free tune-up! We can’t wait to see you at the Grace Gardens annual Free Bicycle Clinic! \nPLUS\, there will be free face painting\, prizes\, and more! \nIf you have a preschool-aged child and are interested in learning more about Grace Gardens preschool\, this is an excellent opportunity to check out the classroom\, playground\, and even meet teachers! Feel free to attend whether you have bikes or not. \nPrice Cream will be available for purchase in a variety of flavors for this event. 🙂
URL:https://www.pricecream.co/event/bike-rodeo/
LOCATION:Faith Methodist Church\, 2622 11th Avenue\, Sidney\, NE\, 69162\, United States
CATEGORIES:Pop-up
ATTACH;FMTTYPE=image/png:https://www.pricecream.co/wp-content/uploads/2024/04/Spring-Fun-Fair.png
END:VEVENT
BEGIN:VEVENT
DTSTART;TZID=America/Denver:20240504T110000
DTEND;TZID=America/Denver:20240504T133000
DTSTAMP:20260423T174412
CREATED:20240402T211037Z
LAST-MODIFIED:20240420T034645Z
UID:2138-1714820400-1714829400@www.pricecream.co
SUMMARY:Ladies' Day Out!
DESCRIPTION:Ladies\, come see us for your favorite ice cream flavors! \nTEN of you will receive a coupon for a FREE 2-scoop ice cream in a cup or cone\, just by starting your day at Plummer Insurance and scoring a grab bag! 😉 We can’t wait to see you!
URL:https://www.pricecream.co/event/girls-day-out/
LOCATION:Boss City Brewing Co.\, 1200 Jackson Street\, Sidney\, NE\, 69162\, United States
ATTACH;FMTTYPE=image/jpeg:https://www.pricecream.co/wp-content/uploads/2024/04/Girls-Day-Out.jpg
END:VEVENT
BEGIN:VEVENT
DTSTART;TZID=America/Denver:20240419T120000
DTEND;TZID=America/Denver:20240419T130000
DTSTAMP:20260423T174412
CREATED:20240328T224713Z
LAST-MODIFIED:20240412T183606Z
UID:2077-1713528000-1713531600@www.pricecream.co
SUMMARY:April Pint/Quart Pickup
DESCRIPTION:Our monthly pint/quart pickup is scheduled for April 19th! \nOrdering opens Monday\, April 15 @ 7 PM.
URL:https://www.pricecream.co/event/april-pint-quart-pickup/
LOCATION:Huyett\, 922 Illinois St.\, Sidney\, NE\, 69162\, United States
CATEGORIES:Pint/Quart Pickup
ATTACH;FMTTYPE=image/png:https://www.pricecream.co/wp-content/uploads/2024/03/1.png
END:VEVENT
BEGIN:VEVENT
DTSTART;TZID=America/Denver:20240406T130000
DTEND;TZID=America/Denver:20240406T160000
DTSTAMP:20260423T174412
CREATED:20240329T173409Z
LAST-MODIFIED:20240329T174918Z
UID:2097-1712408400-1712419200@www.pricecream.co
SUMMARY:Case Schoening Benefit
DESCRIPTION:As a small act of remembrance and support\, please join us for a benefit celebrating Case’s life on Saturday\, April 6 from 1 PM to 4 PM in downtown Sidney. We will be scooping up some of our most-loved flavors\, served in your choice of a cup or homemade waffle cone. \nThis is a free-will donation event with all funds going to the Schoening family. There will be no charge for ice cream\, we simply ask that you consider making a donation in Case’s honor. Cash\, check\, and Venmo donations will be accepted. (No credit cards\, please.)
URL:https://www.pricecream.co/event/free-ice-cream-in-memory-of-case-schoening/
LOCATION:Huyett\, 922 Illinois St.\, Sidney\, NE\, 69162\, United States
CATEGORIES:Benefit
ATTACH;FMTTYPE=image/png:https://www.pricecream.co/wp-content/uploads/2024/03/JOIN-US.png
END:VEVENT
END:VCALENDAR