BEGIN:VCALENDAR
VERSION:2.0
PRODID:-//Price Cream Co. - ECPv6.15.20//NONSGML v1.0//EN
CALSCALE:GREGORIAN
METHOD:PUBLISH
X-WR-CALNAME:Price Cream Co.
X-ORIGINAL-URL:https://www.pricecream.co
X-WR-CALDESC:Events for Price Cream Co.
REFRESH-INTERVAL;VALUE=DURATION:PT1H
X-Robots-Tag:noindex
X-PUBLISHED-TTL:PT1H
BEGIN:VTIMEZONE
TZID:UTC
BEGIN:STANDARD
TZOFFSETFROM:+0000
TZOFFSETTO:+0000
TZNAME:UTC
DTSTART:20230101T000000
END:STANDARD
END:VTIMEZONE
BEGIN:VTIMEZONE
TZID:America/Denver
BEGIN:DAYLIGHT
TZOFFSETFROM:-0700
TZOFFSETTO:-0600
TZNAME:MDT
DTSTART:20230312T090000
END:DAYLIGHT
BEGIN:STANDARD
TZOFFSETFROM:-0600
TZOFFSETTO:-0700
TZNAME:MST
DTSTART:20231105T080000
END:STANDARD
BEGIN:DAYLIGHT
TZOFFSETFROM:-0700
TZOFFSETTO:-0600
TZNAME:MDT
DTSTART:20240310T090000
END:DAYLIGHT
BEGIN:STANDARD
TZOFFSETFROM:-0600
TZOFFSETTO:-0700
TZNAME:MST
DTSTART:20241103T080000
END:STANDARD
BEGIN:DAYLIGHT
TZOFFSETFROM:-0700
TZOFFSETTO:-0600
TZNAME:MDT
DTSTART:20250309T090000
END:DAYLIGHT
BEGIN:STANDARD
TZOFFSETFROM:-0600
TZOFFSETTO:-0700
TZNAME:MST
DTSTART:20251102T080000
END:STANDARD
END:VTIMEZONE
BEGIN:VEVENT
DTSTART;TZID=UTC:20240523T170000
DTEND;TZID=UTC:20240523T193000
DTSTAMP:20260423T191502
CREATED:20240513T205050Z
LAST-MODIFIED:20240523T123159Z
UID:2217-1716483600-1716492600@www.pricecream.co
SUMMARY:Wine Down with CASA!
DESCRIPTION:Mark your calendars and join us on May 23 at 5:00 PM for an evening of indulgence at Boss City Brewing!\nWe’ll be serving scoops in cups and homemade waffle cones! 🙂
URL:https://www.pricecream.co/event/casa/
LOCATION:Boss City Brewing Co.\, 1200 Jackson Street\, Sidney\, NE\, 69162\, United States
ATTACH;FMTTYPE=image/jpeg:https://www.pricecream.co/wp-content/uploads/2024/05/Vanilla-Cone.jpg
END:VEVENT
BEGIN:VEVENT
DTSTART;TZID=UTC:20240510T140000
DTEND;TZID=UTC:20240510T173000
DTSTAMP:20260423T191502
CREATED:20240407T163029Z
LAST-MODIFIED:20240407T163029Z
UID:2151-1715349600-1715362200@www.pricecream.co
SUMMARY:"Mommy & Me" Market
DESCRIPTION:Come see us at C. Elliott Blooms from 2:00 – 5:30 PM! We’ll have pre-packaged cups for purchase in a variety of flavors!
URL:https://www.pricecream.co/event/mommy-me-market/
LOCATION:C. Elliot Blooms\, 2678 11th Avenue\, Sidney\, NE\, 69162\, United States
CATEGORIES:Pop-up
ATTACH;FMTTYPE=image/jpeg:https://www.pricecream.co/wp-content/uploads/2024/04/C.-Elliot-Blooms-Market.jpg
END:VEVENT
BEGIN:VEVENT
DTSTART;TZID=UTC:20240504T140000
DTEND;TZID=UTC:20240504T160000
DTSTAMP:20260423T191502
CREATED:20240407T163638Z
LAST-MODIFIED:20240412T183329Z
UID:2155-1714831200-1714838400@www.pricecream.co
SUMMARY:Spring Fun Fair & Free Bicycle Clinic
DESCRIPTION:Kids\, bring your bikes and get a free tune-up! We can’t wait to see you at the Grace Gardens annual Free Bicycle Clinic! \nPLUS\, there will be free face painting\, prizes\, and more! \nIf you have a preschool-aged child and are interested in learning more about Grace Gardens preschool\, this is an excellent opportunity to check out the classroom\, playground\, and even meet teachers! Feel free to attend whether you have bikes or not. \nPrice Cream will be available for purchase in a variety of flavors for this event. 🙂
URL:https://www.pricecream.co/event/bike-rodeo/
LOCATION:Faith Methodist Church\, 2622 11th Avenue\, Sidney\, NE\, 69162\, United States
CATEGORIES:Pop-up
ATTACH;FMTTYPE=image/png:https://www.pricecream.co/wp-content/uploads/2024/04/Spring-Fun-Fair.png
END:VEVENT
BEGIN:VEVENT
DTSTART;TZID=America/Denver:20240504T110000
DTEND;TZID=America/Denver:20240504T133000
DTSTAMP:20260423T191502
CREATED:20240402T211037Z
LAST-MODIFIED:20240420T034645Z
UID:2138-1714820400-1714829400@www.pricecream.co
SUMMARY:Ladies' Day Out!
DESCRIPTION:Ladies\, come see us for your favorite ice cream flavors! \nTEN of you will receive a coupon for a FREE 2-scoop ice cream in a cup or cone\, just by starting your day at Plummer Insurance and scoring a grab bag! 😉 We can’t wait to see you!
URL:https://www.pricecream.co/event/girls-day-out/
LOCATION:Boss City Brewing Co.\, 1200 Jackson Street\, Sidney\, NE\, 69162\, United States
ATTACH;FMTTYPE=image/jpeg:https://www.pricecream.co/wp-content/uploads/2024/04/Girls-Day-Out.jpg
END:VEVENT
BEGIN:VEVENT
DTSTART;TZID=America/Denver:20240419T120000
DTEND;TZID=America/Denver:20240419T130000
DTSTAMP:20260423T191502
CREATED:20240328T224713Z
LAST-MODIFIED:20240412T183606Z
UID:2077-1713528000-1713531600@www.pricecream.co
SUMMARY:April Pint/Quart Pickup
DESCRIPTION:Our monthly pint/quart pickup is scheduled for April 19th! \nOrdering opens Monday\, April 15 @ 7 PM.
URL:https://www.pricecream.co/event/april-pint-quart-pickup/
LOCATION:Huyett\, 922 Illinois St.\, Sidney\, NE\, 69162\, United States
CATEGORIES:Pint/Quart Pickup
ATTACH;FMTTYPE=image/png:https://www.pricecream.co/wp-content/uploads/2024/03/1.png
END:VEVENT
BEGIN:VEVENT
DTSTART;TZID=America/Denver:20240406T130000
DTEND;TZID=America/Denver:20240406T160000
DTSTAMP:20260423T191502
CREATED:20240329T173409Z
LAST-MODIFIED:20240329T174918Z
UID:2097-1712408400-1712419200@www.pricecream.co
SUMMARY:Case Schoening Benefit
DESCRIPTION:As a small act of remembrance and support\, please join us for a benefit celebrating Case’s life on Saturday\, April 6 from 1 PM to 4 PM in downtown Sidney. We will be scooping up some of our most-loved flavors\, served in your choice of a cup or homemade waffle cone. \nThis is a free-will donation event with all funds going to the Schoening family. There will be no charge for ice cream\, we simply ask that you consider making a donation in Case’s honor. Cash\, check\, and Venmo donations will be accepted. (No credit cards\, please.)
URL:https://www.pricecream.co/event/free-ice-cream-in-memory-of-case-schoening/
LOCATION:Huyett\, 922 Illinois St.\, Sidney\, NE\, 69162\, United States
CATEGORIES:Benefit
ATTACH;FMTTYPE=image/png:https://www.pricecream.co/wp-content/uploads/2024/03/JOIN-US.png
END:VEVENT
END:VCALENDAR